BEGIN:VCALENDAR
VERSION:2.0
PRODID:-//Brisbane Naturopath - ECPv6.15.18//NONSGML v1.0//EN
CALSCALE:GREGORIAN
METHOD:PUBLISH
X-WR-CALNAME:Brisbane Naturopath
X-ORIGINAL-URL:https://brisbanenaturopaths.com.au
X-WR-CALDESC:Events for Brisbane Naturopath
REFRESH-INTERVAL;VALUE=DURATION:PT1H
X-Robots-Tag:noindex
X-PUBLISHED-TTL:PT1H
BEGIN:VTIMEZONE
TZID:Australia/Melbourne
BEGIN:STANDARD
TZOFFSETFROM:+1100
TZOFFSETTO:+1000
TZNAME:AEST
DTSTART:20170401T160000
END:STANDARD
BEGIN:DAYLIGHT
TZOFFSETFROM:+1000
TZOFFSETTO:+1100
TZNAME:AEDT
DTSTART:20170930T160000
END:DAYLIGHT
BEGIN:STANDARD
TZOFFSETFROM:+1100
TZOFFSETTO:+1000
TZNAME:AEST
DTSTART:20180331T160000
END:STANDARD
BEGIN:DAYLIGHT
TZOFFSETFROM:+1000
TZOFFSETTO:+1100
TZNAME:AEDT
DTSTART:20181006T160000
END:DAYLIGHT
BEGIN:STANDARD
TZOFFSETFROM:+1100
TZOFFSETTO:+1000
TZNAME:AEST
DTSTART:20190406T160000
END:STANDARD
BEGIN:DAYLIGHT
TZOFFSETFROM:+1000
TZOFFSETTO:+1100
TZNAME:AEDT
DTSTART:20191005T160000
END:DAYLIGHT
BEGIN:STANDARD
TZOFFSETFROM:+1100
TZOFFSETTO:+1000
TZNAME:AEST
DTSTART:20200404T160000
END:STANDARD
BEGIN:DAYLIGHT
TZOFFSETFROM:+1000
TZOFFSETTO:+1100
TZNAME:AEDT
DTSTART:20201003T160000
END:DAYLIGHT
END:VTIMEZONE
BEGIN:VEVENT
DTSTART;TZID=Australia/Melbourne:20191109T090000
DTEND;TZID=Australia/Melbourne:20191109T130000
DTSTAMP:20260425T031524
CREATED:20191004T083549Z
LAST-MODIFIED:20191004T084137Z
UID:2137-1573290000-1573304400@brisbanenaturopaths.com.au
SUMMARY:You're Invited to our Clinic Open Day (with FREE consults)
DESCRIPTION:We’ve got loads of FREEBIES for you at our Open Day on Saturday November 9\, 2019. \nWhat’s on offer?\n💚Gift bags \n💚Pilates \n💚Mini consults \n💚Product samples \n💚Discount vouchers for practitioner services \nMeet the team\nTry a bit of everything\, to see which service is right for you and talk to our friendly practitioners. \n🚺Denise H – the gut guru \n🚺Georgia K – 15-min mini kinesiology balance \n🚺Kate Z – free 10-min tongue & pulse diagnosis \n🚺Karen P – free 10-min body-composition analysis \n🚹Daniel R – free postural assessment \n🚺Alana M – free pilates flow class \nOne-Stop Wellness Shop\nWe’ve got all of the natural remedies you need in one place\, to keep you on track. \n✅Naturopathy \n✅Kinesiology \n✅Acupuncture \n✅Nutrition \n✅Remedial Massage \nPut 9 November in your diary\n9:00am-1:00pm \n📌 27 Cunningham Street\, Newstead \nRegister for the FB event now\nHead to Facebook and put our event in your diary here. \nhttps://brisbanenaturopaths.com.au/wp-content/uploads/2019/10/BNWC-Open-Day.mp4
URL:https://brisbanenaturopaths.com.au/event/youre-invited-to-our-clinic-open-day-with-free-consults-9-november-2019/
END:VEVENT
BEGIN:VEVENT
DTSTART;TZID=Australia/Melbourne:20181201T130000
DTEND;TZID=Australia/Melbourne:20181201T161500
DTSTAMP:20260425T031524
CREATED:20181104T104553Z
LAST-MODIFIED:20181104T104754Z
UID:1663-1543669200-1543680900@brisbanenaturopaths.com.au
SUMMARY:Gut Happy is Coming to Brisbane: Free Gut-Info Talk + Raw-Choc Workshop
DESCRIPTION:Get excited because the Gut Happy girls are doing Brisbane in December for one day only! \nCome to one or both of our workshops on Saturday 1 December at Bulimba. The workshops are: \n\na FREE gut-health info session with Brisbane’s own gut guru and senior naturopath\, Denise Hales.\nan interactive raw-chocolate making workshop with the Gut Happy girls!\n\nAbout the FREE gut-health info session\nLearn all about the importance of gut health to your vitality and wellbeing with Brisbane’s gut guru and naturopath\, Denise Hales. Spend 45 minutes with Denise absolutely FREE. We’ll have free samples for you to try! \nBOOK: Email for your FREE place: hello@guthappy.com.au \nWhen: Saturday\, 1 December 2018 | 1.00pm – 1:45pm \nWhere: Bulimba Library\, Meeting Room 1 | 219 Oxford St\, Bulimba Qld 4171 \n\n\nAbout the raw-choc workshop\nBOOK HERE \nWhen: Saturday\, 1 December 2018 | Arrive 2.35pm | 2.45pm – 4:15pm \nWhere: Bulimba Library\, Meeting Room 1 | 219 Oxford St\, Bulimba Qld 4171 \nLearn how to make guilt-free Gut Happy treats in our semi-interactive cooking class: \n\nraw rocky road\nraw bone-broth chocolate\nhealthy milo\nbliss balls\nand much more.\n\nYou will start the afternoon with a glass of “fermented grapes” as the Gut Happy girls tantalise your taste buds and teach you the secrets to creating gut friendly\, raw-chocolate recipes. \nEnd the afternoon with a cup of our palette-cleansing\, stress-relieving\, gut-soothing Gut Happy Digestif tea\, and walk away with: \n\na belly full of gut friendly raw treats\nour secret recipes\na takeaway bag with some of our hand-made goodies; and\na gateway to good gut health!\n\nPlease note: This class is an interactive workshop\, not a FULL cooking class. But you will be getting involved and be getting your hands dirty!!
URL:https://brisbanenaturopaths.com.au/event/gut-happy-is-coming-to-brisbane-free-gut-info-talk-raw-choc-workshop/
LOCATION:Bulimba Library\, 219 Oxford Street\, Bulimba\, Qld\, 4171\, Australia
END:VEVENT
BEGIN:VEVENT
DTSTART;TZID=Australia/Melbourne:20180419T190000
DTEND;TZID=Australia/Melbourne:20180419T210000
DTSTAMP:20260425T031524
CREATED:20180319T055648Z
LAST-MODIFIED:20180319T064112Z
UID:1065-1524164400-1524171600@brisbanenaturopaths.com.au
SUMMARY:MINDD Meetups
DESCRIPTION:
URL:https://brisbanenaturopaths.com.au/event/mindd-meetups/
ORGANIZER;CN="Denise Hales":MAILTO:info@kpnwellnesscentre.com.au
END:VEVENT
BEGIN:VEVENT
DTSTART;TZID=Australia/Melbourne:20180221T180000
DTEND;TZID=Australia/Melbourne:20180221T200000
DTSTAMP:20260425T031524
CREATED:20171016T053133Z
LAST-MODIFIED:20171019T084333Z
UID:383-1519236000-1519243200@brisbanenaturopaths.com.au
SUMMARY:The Magic Pill Screening
DESCRIPTION:What if most of our modern diseases are really just symptoms of the same problem? The Magic Pill follows doctors\, patients\, scientists\, chefs\, farmers and journalists from around the globe who are combating illness through a paradigm shift in eating. And this simple change – embracing fat as our main fuel – is showing profound promise in improving the health of people\, animals and the planet. Kangaroo Point Naturopaths bring you this special screening of The Magic Pill. Watch the official trailer above and invite your family and friends along to this special screening.
URL:https://brisbanenaturopaths.com.au/event/the-magic-pill-screening/
LOCATION:Palace Cinemas\, Fortitude Valley\, Queensland\, Australia
ATTACH;FMTTYPE=image/jpeg:https://brisbanenaturopaths.com.au/wp-content/uploads/2017/10/slide-1.jpg
END:VEVENT
END:VCALENDAR